BEGIN:VCALENDAR
PRODID:-//eluceo/ical//2.0/EN
VERSION:2.0
CALSCALE:GREGORIAN
BEGIN:VEVENT
UID:40879831b56124866d60654fb3964d91
DTSTAMP:20260420T111111Z
SUMMARY:Rotary Action Summit 2024
DESCRIPTION:Website: https://www.rotaryactionsummitmalmo2024.se/
URL:https://rotaryklubb.org/en/agenda/show/207862
DTSTART;TZID=Europe/Zurich:20240920T091500
DTEND;TZID=Europe/Zurich:20240922T160000
LOCATION:Malmö
CATEGORIES:Rotary
END:VEVENT
BEGIN:VTIMEZONE
TZID:Europe/Zurich
BEGIN:DAYLIGHT
DTSTART:20240920T091500
TZNAME:CEST
TZOFFSETTO:+0200
TZOFFSETFROM:+0200
END:DAYLIGHT
END:VTIMEZONE
END:VCALENDAR
