BEGIN:VCALENDAR
PRODID:-//eluceo/ical//2.0/EN
VERSION:2.0
CALSCALE:GREGORIAN
BEGIN:VEVENT
UID:38e3370a49c1b50e8f0ee2541d2524cc
DTSTAMP:20260420T110957Z
SUMMARY:Polarisutbildning 2 för funktionärer
DESCRIPTION:Speaker(s): Christer Wecke\, Ulf Andersson
URL:https://rotaryklubb.org/en/agenda/show/208499
DTSTART;TZID=Europe/Zurich:20240918T180000
DTEND;TZID=Europe/Zurich:20240918T193000
LOCATION:Möte över Zoom
CATEGORIES:Rotary
END:VEVENT
BEGIN:VTIMEZONE
TZID:Europe/Zurich
BEGIN:DAYLIGHT
DTSTART:20240918T180000
TZNAME:CEST
TZOFFSETTO:+0200
TZOFFSETFROM:+0200
END:DAYLIGHT
END:VTIMEZONE
END:VCALENDAR
